Workbook

Sheet planowanie wydatków
B2: LP | C2: winiety | D2: cena | F2: ilość | G2: cen PLN | I2: LP | J2: nocleg | K2: cena | M2: ilość | N2: cen PLN | P2: kategoria | Q2: koszt | S2: kurs walut
B3: 1 | C3: winiety | D3: =IFERROR(VLOOKUP(C3,pom!A$2:B$49,2,0),"") | E3: =IFERROR(VLOOKUP(C3,pom!A$2:C$49,3,0),"") | G3: =IFERROR(IF(F3>0,VLOOKUP(E3,S$3:T$5,2,0)*F3*D3,""),"") | I3: 1 | N3: =IFERROR(IF(M3>0,VLOOKUP(L3,$S$3:$T$6,2,0)*M3*K3,""),"") | P3: winiety | Q3: =SUM(G3:G7) -> 0 | S3: € | T3: 4.6127
B4: 2 | C4: winiety | D4: =IFERROR(VLOOKUP(C4,pom!A$2:B$49,2,0),"") | E4: =IFERROR(VLOOKUP(C4,pom!A$2:C$49,3,0),"") | G4: =IFERROR(IF(F4>0,VLOOKUP(E4,S$3:T$5,2,0)*F4*D4,""),"") | I4: 2 | N4: =IFERROR(IF(M4>0,VLOOKUP(L4,$S$3:$T$6,2,0)*M4*K4,""),"") | P4: autostrady | Q4: =SUM(G10:G19) -> 0 | S4: CZK | T4: 0.2003
B5: 3 | C5: winiety | D5: =IFERROR(VLOOKUP(C5,pom!A$2:B$49,2,0),"") | E5: =IFERROR(VLOOKUP(C5,pom!A$2:C$49,3,0),"") | G5: =IFERROR(IF(F5>0,VLOOKUP(E5,S$3:T$5,2,0)*F5*D5,""),"") | I5: 3 | N5: =IFERROR(IF(M5>0,VLOOKUP(L5,$S$3:$T$6,2,0)*M5*K5,""),"") | P5: paliwo | Q5: =SUM(G22:G31) -> 0 | S5: HUF | T5: 0.012409
B6: 4 | C6: winiety | D6: =IFERROR(VLOOKUP(C6,pom!A$2:B$49,2,0),"") | E6: =IFERROR(VLOOKUP(C6,pom!A$2:C$49,3,0),"") | G6: =IFERROR(IF(F6>0,VLOOKUP(E6,S$3:T$5,2,0)*F6*D6,""),"") | I6: 4 | N6: =IFERROR(IF(M6>0,VLOOKUP(L6,$S$3:$T$6,2,0)*M6*K6,""),"") | P6: promy | Q6: =SUM(G34:G43) -> 0 | S6: PLN | T6: 1
B7: 5 | C7: winiety | D7: =IFERROR(VLOOKUP(C7,pom!A$2:B$49,2,0),"") | E7: =IFERROR(VLOOKUP(C7,pom!A$2:C$49,3,0),"") | G7: =IFERROR(IF(F7>0,VLOOKUP(E7,S$3:T$5,2,0)*F7*D7,""),"") | I7: 5 | N7: =IFERROR(IF(M7>0,VLOOKUP(L7,$S$3:$T$6,2,0)*M7*K7,""),"") | P7: noclegi | Q7: =SUM(N3:N7) -> 0
P8: zakupy | Q8: =SUM(N10:N19) -> 0
B9: LP | C9: autostrady | D9: cena | F9: ilość | G9: cen PLN | I9: LP | J9: zakupy | K9: cena | M9: ilość | N9: cen PLN | P9: atrakcje | Q9: =SUM(N22:N31) -> 0
B10: 1 | G10: =IFERROR(IF(F10>0,VLOOKUP(E10,$S$3:$T$6,2,0)*F10*D10,""),"") | I10: 1 | N10: =IFERROR(IF(M10>0,VLOOKUP(L10,$S$3:$T$6,2,0)*M10*K10,""),"") | P10: konoby | Q10: =SUM(N34:N43) -> 0
B11: 2 | G11: =IFERROR(IF(F11>0,VLOOKUP(E11,$S$3:$T$6,2,0)*F11*D11,""),"") | I11: 2 | N11: =IFERROR(IF(M11>0,VLOOKUP(L11,$S$3:$T$6,2,0)*M11*K11,""),"")
B12: 3 | G12: =IFERROR(IF(F12>0,VLOOKUP(E12,$S$3:$T$6,2,0)*F12*D12,""),"") | I12: 3 | N12: =IFERROR(IF(M12>0,VLOOKUP(L12,$S$3:$T$6,2,0)*M12*K12,""),"")
B13: 4 | G13: =IFERROR(IF(F13>0,VLOOKUP(E13,$S$3:$T$6,2,0)*F13*D13,""),"") | I13: 4 | N13: =IFERROR(IF(M13>0,VLOOKUP(L13,$S$3:$T$6,2,0)*M13*K13,""),"")
B14: 5 | G14: =IFERROR(IF(F14>0,VLOOKUP(E14,$S$3:$T$6,2,0)*F14*D14,""),"") | I14: 5 | N14: =IFERROR(IF(M14>0,VLOOKUP(L14,$S$3:$T$6,2,0)*M14*K14,""),"")
B15: 6 | G15: =IFERROR(IF(F15>0,VLOOKUP(E15,$S$3:$T$6,2,0)*F15*D15,""),"") | I15: 6 | N15: =IFERROR(IF(M15>0,VLOOKUP(L15,$S$3:$T$6,2,0)*M15*K15,""),"")
B16: 7 | G16: =IFERROR(IF(F16>0,VLOOKUP(E16,$S$3:$T$6,2,0)*F16*D16,""),"") | I16: 7 | N16: =IFERROR(IF(M16>0,VLOOKUP(L16,$S$3:$T$6,2,0)*M16*K16,""),"")
B17: 8 | G17: =IFERROR(IF(F17>0,VLOOKUP(E17,$S$3:$T$6,2,0)*F17*D17,""),"") | I17: 8 | N17: =IFERROR(IF(M17>0,VLOOKUP(L17,$S$3:$T$6,2,0)*M17*K17,""),"")
B18: 9 | G18: =IFERROR(IF(F18>0,VLOOKUP(E18,$S$3:$T$6,2,0)*F18*D18,""),"") | I18: 9 | N18: =IFERROR(IF(M18>0,VLOOKUP(L18,$S$3:$T$6,2,0)*M18*K18,""),"")
B19: 10 | G19: =IFERROR(IF(F19>0,VLOOKUP(E19,$S$3:$T$6,2,0)*F19*D19,""),"") | I19: 10 | N19: =IFERROR(IF(M19>0,VLOOKUP(L19,$S$3:$T$6,2,0)*M19*K19,""),"")
B21: LP | C21: paliwo | D21: cena | F21: ilość | G21: cen PLN | I21: LP | J21: atrakcje | K21: cena | M21: ilość | N21: cen PLN
B22: 1 | C22: tankowanie nr1 | G22: =IFERROR(IF(F22>0,VLOOKUP(E22,$S$3:$T$6,2,0)*F22*D22,""),"") | I22: 1 | N22: =IFERROR(IF(M22>0,VLOOKUP(L22,$S$3:$T$6,2,0)*M22*K22,""),"")
B23: 2 | C23: tankowanie nr2 | G23: =IFERROR(IF(F23>0,VLOOKUP(E23,$S$3:$T$6,2,0)*F23*D23,""),"") | I23: 2 | N23: =IFERROR(IF(M23>0,VLOOKUP(L23,$S$3:$T$6,2,0)*M23*K23,""),"")
B24: 3 | C24: tankowanie nr3 | G24: =IFERROR(IF(F24>0,VLOOKUP(E24,$S$3:$T$6,2,0)*F24*D24,""),"") | I24: 3 | N24: =IFERROR(IF(M24>0,VLOOKUP(L24,$S$3:$T$6,2,0)*M24*K24,""),"")
B25: 4 | C25: tankowanie nr4 | G25: =IFERROR(IF(F25>0,VLOOKUP(E25,$S$3:$T$6,2,0)*F25*D25,""),"") | I25: 4 | N25: =IFERROR(IF(M25>0,VLOOKUP(L25,$S$3:$T$6,2,0)*M25*K25,""),"")
B26: 5 | C26: tankowanie nr5 | G26: =IFERROR(IF(F26>0,VLOOKUP(E26,$S$3:$T$6,2,0)*F26*D26,""),"") | I26: 5 | N26: =IFERROR(IF(M26>0,VLOOKUP(L26,$S$3:$T$6,2,0)*M26*K26,""),"")
B27: 6 | C27: tankowanie nr6 | G27: =IFERROR(IF(F27>0,VLOOKUP(E27,$S$3:$T$6,2,0)*F27*D27,""),"") | I27: 6 | N27: =IFERROR(IF(M27>0,VLOOKUP(L27,$S$3:$T$6,2,0)*M27*K27,""),"")
B28: 7 | C28: tankowanie nr7 | G28: =IFERROR(IF(F28>0,VLOOKUP(E28,$S$3:$T$6,2,0)*F28*D28,""),"") | I28: 7 | N28: =IFERROR(IF(M28>0,VLOOKUP(L28,$S$3:$T$6,2,0)*M28*K28,""),"")
B29: 8 | C29: tankowanie nr8 | G29: =IFERROR(IF(F29>0,VLOOKUP(E29,$S$3:$T$6,2,0)*F29*D29,""),"") | I29: 8 | N29: =IFERROR(IF(M29>0,VLOOKUP(L29,$S$3:$T$6,2,0)*M29*K29,""),"")
B30: 9 | C30: tankowanie nr9 | G30: =IFERROR(IF(F30>0,VLOOKUP(E30,$S$3:$T$6,2,0)*F30*D30,""),"") | I30: 9 | N30: =IFERROR(IF(M30>0,VLOOKUP(L30,$S$3:$T$6,2,0)*M30*K30,""),"")
B31: 10 | C31: tankowanie nr10 | G31: =IFERROR(IF(F31>0,VLOOKUP(E31,$S$3:$T$6,2,0)*F31*D31,""),"") | I31: 10 | N31: =IFERROR(IF(M31>0,VLOOKUP(L31,$S$3:$T$6,2,0)*M31*K31,""),"")
B33: LP | C33: promy | D33: cena | F33: ilość | G33: cen PLN | I33: LP | J33: konoby | K33: cena | M33: ilość | N33: cen PLN
B34: 1 | C34: trasa | G34: =IFERROR(IF(F34>0,VLOOKUP(E34,$S$3:$T$6,2,0)*F34*D34,""),"") | I34: 1 | N34: =IFERROR(IF(M34>0,VLOOKUP(L34,$S$3:$T$6,2,0)*M34*K34,""),"")
B35: 2 | C35: trasa | G35: =IFERROR(IF(F35>0,VLOOKUP(E35,$S$3:$T$6,2,0)*F35*D35,""),"") | I35: 2 | N35: =IFERROR(IF(M35>0,VLOOKUP(L35,$S$3:$T$6,2,0)*M35*K35,""),"")
B36: 3 | C36: trasa | G36: =IFERROR(IF(F36>0,VLOOKUP(E36,$S$3:$T$6,2,0)*F36*D36,""),"") | I36: 3 | N36: =IFERROR(IF(M36>0,VLOOKUP(L36,$S$3:$T$6,2,0)*M36*K36,""),"")
B37: 4 | C37: trasa | G37: =IFERROR(IF(F37>0,VLOOKUP(E37,$S$3:$T$6,2,0)*F37*D37,""),"") | I37: 4 | N37: =IFERROR(IF(M37>0,VLOOKUP(L37,$S$3:$T$6,2,0)*M37*K37,""),"")
B38: 5 | C38: trasa | G38: =IFERROR(IF(F38>0,VLOOKUP(E38,$S$3:$T$6,2,0)*F38*D38,""),"") | I38: 5 | N38: =IFERROR(IF(M38>0,VLOOKUP(L38,$S$3:$T$6,2,0)*M38*K38,""),"")
B39: 6 | C39: trasa | G39: =IFERROR(IF(F39>0,VLOOKUP(E39,$S$3:$T$6,2,0)*F39*D39,""),"") | I39: 6 | N39: =IFERROR(IF(M39>0,VLOOKUP(L39,$S$3:$T$6,2,0)*M39*K39,""),"")
B40: 7 | C40: trasa | G40: =IFERROR(IF(F40>0,VLOOKUP(E40,$S$3:$T$6,2,0)*F40*D40,""),"") | I40: 7 | N40: =IFERROR(IF(M40>0,VLOOKUP(L40,$S$3:$T$6,2,0)*M40*K40,""),"")
B41: 8 | C41: trasa | G41: =IFERROR(IF(F41>0,VLOOKUP(E41,$S$3:$T$6,2,0)*F41*D41,""),"") | I41: 8 | N41: =IFERROR(IF(M41>0,VLOOKUP(L41,$S$3:$T$6,2,0)*M41*K41,""),"")
B42: 9 | C42: trasa | G42: =IFERROR(IF(F42>0,VLOOKUP(E42,$S$3:$T$6,2,0)*F42*D42,""),"") | I42: 9 | N42: =IFERROR(IF(M42>0,VLOOKUP(L42,$S$3:$T$6,2,0)*M42*K42,""),"")
B43: 10 | C43: trasa | G43: =IFERROR(IF(F43>0,VLOOKUP(E43,$S$3:$T$6,2,0)*F43*D43,""),"") | I43: 10 | N43: =IFERROR(IF(M43>0,VLOOKUP(L43,$S$3:$T$6,2,0)*M43*K43,""),"")

Sheet pom
A1: winiety | B1: cena | C1: waluty | D1: połączony tekst
A2: Austria - auto, 10 dni | B2: 9.9 | C2: € | D2: =CONCATENATE(A2,", ",B2,C2) -> Austria - auto, 10 dni, 9,9€
A3: Austria - auto, 2 miesiące | B3: 29 | C3: € | D3: =CONCATENATE(A3,", ",B3,C3) -> Austria - auto, 2 miesiące, 29€
A4: Austria - auto, 1 rok | B4: 96.4 | C4: € | D4: =CONCATENATE(A4,", ",B4,C4) -> Austria - auto, 1 rok, 96,4€
A5: Austria - motor, 10 dni | B5: 5.8 | C5: € | D5: =CONCATENATE(A5,", ",B5,C5) -> Austria - motor, 10 dni, 5,8€
A6: Austria - motor, 2 miesiące | B6: 14.5 | C6: € | D6: =CONCATENATE(A6,", ",B6,C6) -> Austria - motor, 2 miesiące, 14,5€
A7: Austria - motor, 1 rok | B7: 38.2 | C7: € | D7: =CONCATENATE(A7,", ",B7,C7) -> Austria - motor, 1 rok, 38,2€
A8: Czechy - eko, 10 dni | B8: 155 | C8: CZK | D8: =CONCATENATE(A8,", ",B8,C8) -> Czechy - eko, 10 dni, 155CZK
A9: Czechy - eko, 30 dni | B9: 220 | C9: CZK | D9: =CONCATENATE(A9,", ",B9,C9) -> Czechy - eko, 30 dni, 220CZK
A10: Czechy - eko, 1 rok | B10: 750 | C10: CZK | D10: =CONCATENATE(A10,", ",B10,C10) -> Czechy - eko, 1 rok, 750CZK
A11: Czechy - standard, 10 dni | B11: 310 | C11: CZK | D11: =CONCATENATE(A11,", ",B11,C11) -> Czechy - standard, 10 dni, 310CZK
A12: Czechy - standard, 30 dni | B12: 440 | C12: CZK | D12: =CONCATENATE(A12,", ",B12,C12) -> Czechy - standard, 30 dni, 440CZK
A13: Czechy - standard, 1 rok | B13: 1500 | C13: CZK | D13: =CONCATENATE(A13,", ",B13,C13) -> Czechy - standard, 1 rok, 1500CZK
... A43: Węgry - U, 1 rok | B43: 49190 | C43: HUF | D43: =CONCATENATE(A43,", ",B43,C43) -> Węgry - U, 1 rok, 49190HUF

Sheet wydatki
A1: Komórki do sumowania paragonów lub w osobnym arkusze wpisanie konkretnych pozycji, a wynik pokazuje się w danym wierszu.
A7: zrobi się :)
A22: kto | B22: wczasy | C22: car | D22: zwiedzanie | E22: obiad | F22: alkohol | G22: zakupy | H22: przekąski | I22: pamiątki | J22: inne
